BEGIN:VCALENDAR
PRODID:-//kirchenweb.ch gmbh//veranstaltungsausgabe v2.0//DE
VERSION:2.0
METHOD:PUBLISH
BEGIN:VEVENT
DTSTART:20120212T090000Z
DTEND:20120212T100000Z
LOCATION:Kirche Muri\, Thunstrasse 96\, 3074 Muri
TRANSP:OPAQUE
SEQUENCE:0
UID:128-veranstaltung@rkmg.ch
DTSTAMP:20120206T112733Z
DESCRIPTION:„Dennoch bleibe ich stets an dir“ (Ps 73\,23) - einige
  Überlegungen zu Gott und zu einem Zitat des britischen Schriftstellers
  Julian Barnes\, welcher  schrieb: "Ich glaube nicht an Gott\, aber ich
  vermisse ihn".\n\nLieder: 704\, 703\, 334\, 553\n\nKollekte: ALS\n
 \nKontakt: Karin Künti Duru\n\nWeitere Infos:
  https://www.rkmg.ch/veranstaltung/128
SUMMARY:Gottesdienst Muri
PRIORITY:5
X-MICROSOFT-CDO-IMPORTANCE:1
CLASS:PUBLIC
END:VEVENT
END:VCALENDAR
