BEGIN:VCALENDAR
PRODID:-//kirchenweb.ch gmbh//veranstaltungsausgabe v2.0//DE
VERSION:2.0
METHOD:PUBLISH
BEGIN:VEVENT
DTSTART:20120122T090000Z
DTEND:20120122T100000Z
LOCATION:Kirche Muri\, Thunstrasse 96\, 3074 Muri
TRANSP:OPAQUE
SEQUENCE:0
UID:126-veranstaltung@rkmg.ch
DTSTAMP:20220109T073934Z
DESCRIPTION:Sonntag\, 22. Januar\, 10 Uhr\, Kirche Muri\, Ökumenischer
  Gottesdienst zur Einheitswoche mit der Pfarrei Bruder Klaus\, «Wir
  werden alle verwandelt durch den Glauben an Jesus Christus» (1.
  Korinther 12\, 4-11 / Johannes 12\, 23-26); Christoph Knoch\, Thomas
  Metzel und Gäste. Erica Zimmermann\, Orgel. Lieder: 159; 184; 430; 286;
  334; 343. Kollekte: Ökumenische Projekte in Recife/Brasilien und
  Albanien. Stipendienfonds  des Ökumenischen Instituts Bossey\,
  Genf/Schweiz. Kirchenkaffee.\n\nGottesdienst zum Nachhören \n\nÖkumene
  in Muri-Gümligen\nGemeinsam mit der römisch-katholischen Pfarrei Bruder
  Klaus (die Kirche am Burgernziel) und den reformierten Kirchgemeinden
  Petrus und Nydegg werden die monatlichen ökumenischen Abendfeiern in der
  Krypta der Kirche Bruder Klaus und vier ökumenische Gottesdienste pro
  Jahr gefeiert.\n\nSeit über hundert Jahren wird die Einheitswoche
  zwischen dem 18. und 25. Januar gefeiert. Die Liturgie kommt jedes Jahr
  aus einem anderen Land – wie beim Weltgebetstag.\nDie
  polnisch-ökumenische Vorbereitungsgruppe bestand aus Vertretern der
  Römisch-katholischen Kirche\, der Orthodoxen Kirche sowie der
  alt-katholischen Kirche und den protestantischen Kirchen Polens. Sie
  haben als Thema gewählt «Wir werden alle verwandelt durch den Glauben
  an Jesus Christus».\nIhre Erfahrungen mit dem friedlichen und stark von
  kirchlich-religiösen Gruppen her getragenen Umbruch in den 80er Jahren
  schlägt sich in der Liturgie nieder. Im Blick ist auch die
  Fussballeuropameisterschaft\, die 2012 in Polen und der Ukraine
  ausgetragen wird.\nFür die reformierte Kirchgemeinde ist dies eine
  Gelegenheit\, die seit vielen Jahren bestehende Beziehung zur kleinen\,
  aber sehr aktiven reformierten Gemeinde in der Mitte von /warschauin
  Erinnerung zu rufen.\n\n\n\nKontakt: Christoph Knoch\n\nWeitere Infos:
  https://www.rkmg.ch/veranstaltung/126
SUMMARY:Ökumenischer Gottesdienst mit der Pfarrei Bruder Klaus
PRIORITY:5
X-MICROSOFT-CDO-IMPORTANCE:1
CLASS:PUBLIC
END:VEVENT
END:VCALENDAR
