BEGIN:VCALENDAR
PRODID:-//kirchenweb.ch gmbh//veranstaltungsausgabe v2.0//DE
VERSION:2.0
METHOD:PUBLISH
BEGIN:VEVENT
DTSTART:20150612T080000Z
DTEND:20150612T090000Z
LOCATION:Altersheim Nussbaumallee\, Worbstrasse 296\, 3073  Gümligen
TRANSP:OPAQUE
SEQUENCE:0
UID:12538-veranstaltung@rkmg.ch
DTSTAMP:20141128T102020Z
DESCRIPTION:Kontakt: Brigitte Frey\n\nWeitere Infos:
  https://www.rkmg.ch/veranstaltung/12538
SUMMARY:Andacht Altersheim Nussbaumallee
PRIORITY:5
X-MICROSOFT-CDO-IMPORTANCE:1
CLASS:PUBLIC
END:VEVENT
END:VCALENDAR
