BEGIN:VCALENDAR
PRODID:-//kirchenweb.ch gmbh//veranstaltungsausgabe v2.0//DE
VERSION:2.0
METHOD:PUBLISH
BEGIN:VEVENT
DTSTART:20150127T190000Z
DTEND:20150127T200000Z
LOCATION:Kirchgemeindehaus Muri\, Thunstrasse 98\, 3074 Muri
TRANSP:OPAQUE
SEQUENCE:0
UID:12067-veranstaltung@rkmg.ch
DTSTAMP:20141130T190316Z
DESCRIPTION:Paulus war eine kontroverse Figur\, sowohl bewundert als auch
  verschmäht. Bereits in der früh-christlichen Kirche war er umstritten
  und ist es bis heute geblieben. Ohne ihn würde die westliche Welt anders
  aussehen. Wer war dieser Mann? \nSeine Briefe haben einen grossen
  Einfluss auf die Glaubensbekenntnisse und die dogmatischen Aussagen. Er
  wird auch bezichtigt\, die einfache Botschaft Jesu in ein kompliziertes
  dogmatisches System verwandelt zu haben. Wegen ihm hatten die Frauen
  jahrhundertelang eine untergeordnete Rolle in Kirche und Gesellschaft.
  Für die einen ist er Inspirationsquelle\, für die andern Stolperstein.
  Er war ein komplizierter Mensch\, intelligent und hochgebildet\,
  emotional und ungezügelt. Rechthaberisch und furchtlos predigte er
  seinen Glauben. \nDienstag 9.September 16.00h Kirchgemeindehaus Muri
 \n/gespraechsrunde \n\nKontakt: Ella de Groot\n\nWeitere Infos:
  https://www.rkmg.ch/veranstaltung/12067
SUMMARY:Offene Gesprächsrunde. Paulus\, Wiederholung vom Nachmittag
PRIORITY:5
X-MICROSOFT-CDO-IMPORTANCE:1
CLASS:PUBLIC
END:VEVENT
END:VCALENDAR
