BEGIN:VCALENDAR
PRODID:-//kirchenweb.ch gmbh//veranstaltungsausgabe v2.0//DE
VERSION:2.0
METHOD:PUBLISH
BEGIN:VEVENT
DTSTART:20150612T120000Z
DTEND:20150612T130000Z
LOCATION:Kirchgemeindehaus Melchenbühl\, Bersetweg 19\, 3073 Gümligen
TRANSP:OPAQUE
SEQUENCE:0
UID:10359-veranstaltung@rkmg.ch
DTSTAMP:20150312T122111Z
DESCRIPTION:Frühlings-KIK\n\nKontakt: Karin Duru\n\nWeitere Infos:
  https://www.rkmg.ch/veranstaltung/10359
SUMMARY:KIK
PRIORITY:5
X-MICROSOFT-CDO-IMPORTANCE:1
CLASS:PUBLIC
END:VEVENT
END:VCALENDAR
