BEGIN:VCALENDAR
PRODID:-//kirchenweb.ch gmbh//veranstaltungsausgabe v2.0//DE
VERSION:2.0
METHOD:PUBLISH
BEGIN:VEVENT
DTSTART:20140616T120000Z
DTEND:20140616T130000Z
LOCATION:Kirchgemeindehaus Muri\, Thunstrasse 96\, 3074 Muri
TRANSP:OPAQUE
SEQUENCE:0
UID:10039-veranstaltung@rkmg.ch
DTSTAMP:20140407T092051Z
DESCRIPTION:Kontakt: Martin Hubacher\, Tannenweg 17\, 3073 Gümligen\n031
  951 00 87\n\nWeitere Infos: https://www.rkmg.ch/veranstaltung/10039
SUMMARY:Seniorenorchester 149/14
PRIORITY:5
X-MICROSOFT-CDO-IMPORTANCE:1
CLASS:PUBLIC
END:VEVENT
END:VCALENDAR
